Workbook

Sheet ご案内
A1: ■お歳暮シクラメン 一括発注フォーマット ご利用手順
A3: 1. 「商品マスタ」シートは自動計算用の裏側データです。変更・削除しないようお願いいたします。
A4: 2. 「入力フォーマット」シートの【黄色いセル】に必要事項をご入力ください。
A5: 3. 商品名を選択すると、単価や消費税が自動計算されます。
A6: 4. ご入力後、本ファイルをメールに添付し、下記内容をご記入いただきお送りください。
A7: 受注が完了いたしましたら確認メールを送らせていただきます。
A8: メール発送より2営業日以内に返信がない場合、受注が完了していない場合がございますので、お問い合わせください。
A10: ・会社名：
A11: ・ご担当者名：
A12: ・連絡先メールアドレス：
A13: ・電話番号：
A14: ・会員登録の有無：
... A20: TEL: 0120-871-030 (平日 9:00〜17:30)

Sheet 入力フォーマット
A1: ※本シートで算出される金額は【基本送料込み】の概算となります。北海道・沖縄・一部離島への配送が含まれる場合は、シート受領後に別途追加送料を含めた正式な『ご請求額（お見積り）』をメールにてご案内申し上げます。
A2: 当社受注管理No | B2: ご依頼主 | C2: 支店名 | D2: ご依頼主〒 | E2: ご依頼主住所１ | F2: ご依頼主住所２ | G2: ご依頼主電話番号 | H2: お届け先 | I2: お届け先〒 | J2: お届け先住所 | K2: お届け先住所２ | L2: お届け先電話番号 | M2: 商品番号 | N2: 商品名 | O2: 個数 | P2: 税抜単価 | Q2: 税抜金額 | R2: TAX | S2: 税込金額 | T2: お届け希望区分 | U2: のしの有無
M3: =IFERROR(VLOOKUP(N3, 商品マスタ!$A$2:$C$12, 2, FALSE), "") | P3: =IFERROR(VLOOKUP(N3, 商品マスタ!$A$2:$C$12, 3, FALSE), "") | Q3: =IF(AND(ISNUMBER(O3), ISNUMBER(P3)), O3*P3, "") | R3: =IF(ISNUMBER(Q3), ROUNDDOWN(Q3*0.1, 0), "") | S3: =IF(ISNUMBER(Q3), Q3+R3, "")
M4: =IFERROR(VLOOKUP(N4, 商品マスタ!$A$2:$C$12, 2, FALSE), "") | P4: =IFERROR(VLOOKUP(N4, 商品マスタ!$A$2:$C$12, 3, FALSE), "") | Q4: =IF(AND(ISNUMBER(O4), ISNUMBER(P4)), O4*P4, "") | R4: =IF(ISNUMBER(Q4), ROUNDDOWN(Q4*0.1, 0), "") | S4: =IF(ISNUMBER(Q4), Q4+R4, "")
M5: =IFERROR(VLOOKUP(N5, 商品マスタ!$A$2:$C$12, 2, FALSE), "") | P5: =IFERROR(VLOOKUP(N5, 商品マスタ!$A$2:$C$12, 3, FALSE), "") | Q5: =IF(AND(ISNUMBER(O5), ISNUMBER(P5)), O5*P5, "") | R5: =IF(ISNUMBER(Q5), ROUNDDOWN(Q5*0.1, 0), "") | S5: =IF(ISNUMBER(Q5), Q5+R5, "")
M6: =IFERROR(VLOOKUP(N6, 商品マスタ!$A$2:$C$12, 2, FALSE), "") | P6: =IFERROR(VLOOKUP(N6, 商品マスタ!$A$2:$C$12, 3, FALSE), "") | Q6: =IF(AND(ISNUMBER(O6), ISNUMBER(P6)), O6*P6, "") | R6: =IF(ISNUMBER(Q6), ROUNDDOWN(Q6*0.1, 0), "") | S6: =IF(ISNUMBER(Q6), Q6+R6, "")
M7: =IFERROR(VLOOKUP(N7, 商品マスタ!$A$2:$C$12, 2, FALSE), "") | P7: =IFERROR(VLOOKUP(N7, 商品マスタ!$A$2:$C$12, 3, FALSE), "") | Q7: =IF(AND(ISNUMBER(O7), ISNUMBER(P7)), O7*P7, "") | R7: =IF(ISNUMBER(Q7), ROUNDDOWN(Q7*0.1, 0), "") | S7: =IF(ISNUMBER(Q7), Q7+R7, "")
M8: =IFERROR(VLOOKUP(N8, 商品マスタ!$A$2:$C$12, 2, FALSE), "") | P8: =IFERROR(VLOOKUP(N8, 商品マスタ!$A$2:$C$12, 3, FALSE), "") | Q8: =IF(AND(ISNUMBER(O8), ISNUMBER(P8)), O8*P8, "") | R8: =IF(ISNUMBER(Q8), ROUNDDOWN(Q8*0.1, 0), "") | S8: =IF(ISNUMBER(Q8), Q8+R8, "")
M9: =IFERROR(VLOOKUP(N9, 商品マスタ!$A$2:$C$12, 2, FALSE), "") | P9: =IFERROR(VLOOKUP(N9, 商品マスタ!$A$2:$C$12, 3, FALSE), "") | Q9: =IF(AND(ISNUMBER(O9), ISNUMBER(P9)), O9*P9, "") | R9: =IF(ISNUMBER(Q9), ROUNDDOWN(Q9*0.1, 0), "") | S9: =IF(ISNUMBER(Q9), Q9+R9, "")
M10: =IFERROR(VLOOKUP(N10, 商品マスタ!$A$2:$C$12, 2, FALSE), "") | P10: =IFERROR(VLOOKUP(N10, 商品マスタ!$A$2:$C$12, 3, FALSE), "") | Q10: =IF(AND(ISNUMBER(O10), ISNUMBER(P10)), O10*P10, "") | R10: =IF(ISNUMBER(Q10), ROUNDDOWN(Q10*0.1, 0), "") | S10: =IF(ISNUMBER(Q10), Q10+R10, "")
M11: =IFERROR(VLOOKUP(N11, 商品マスタ!$A$2:$C$12, 2, FALSE), "") | P11: =IFERROR(VLOOKUP(N11, 商品マスタ!$A$2:$C$12, 3, FALSE), "") | Q11: =IF(AND(ISNUMBER(O11), ISNUMBER(P11)), O11*P11, "") | R11: =IF(ISNUMBER(Q11), ROUNDDOWN(Q11*0.1, 0), "") | S11: =IF(ISNUMBER(Q11), Q11+R11, "")
M12: =IFERROR(VLOOKUP(N12, 商品マスタ!$A$2:$C$12, 2, FALSE), "") | P12: =IFERROR(VLOOKUP(N12, 商品マスタ!$A$2:$C$12, 3, FALSE), "") | Q12: =IF(AND(ISNUMBER(O12), ISNUMBER(P12)), O12*P12, "") | R12: =IF(ISNUMBER(Q12), ROUNDDOWN(Q12*0.1, 0), "") | S12: =IF(ISNUMBER(Q12), Q12+R12, "")
M13: =IFERROR(VLOOKUP(N13, 商品マスタ!$A$2:$C$12, 2, FALSE), "") | P13: =IFERROR(VLOOKUP(N13, 商品マスタ!$A$2:$C$12, 3, FALSE), "") | Q13: =IF(AND(ISNUMBER(O13), ISNUMBER(P13)), O13*P13, "") | R13: =IF(ISNUMBER(Q13), ROUNDDOWN(Q13*0.1, 0), "") | S13: =IF(ISNUMBER(Q13), Q13+R13, "")
M14: =IFERROR(VLOOKUP(N14, 商品マスタ!$A$2:$C$12, 2, FALSE), "") | P14: =IFERROR(VLOOKUP(N14, 商品マスタ!$A$2:$C$12, 3, FALSE), "") | Q14: =IF(AND(ISNUMBER(O14), ISNUMBER(P14)), O14*P14, "") | R14: =IF(ISNUMBER(Q14), ROUNDDOWN(Q14*0.1, 0), "") | S14: =IF(ISNUMBER(Q14), Q14+R14, "")
... M63: =IFERROR(VLOOKUP(N63, 商品マスタ!$A$2:$C$12, 2, FALSE), "") | P63: =IFERROR(VLOOKUP(N63, 商品マスタ!$A$2:$C$12, 3, FALSE), "") | Q63: =IF(AND(ISNUMBER(O63), ISNUMBER(P63)), O63*P63, "") | R63: =IF(ISNUMBER(Q63), ROUNDDOWN(Q63*0.1, 0), "") | S63: =IF(ISNUMBER(Q63), Q63+R63, "")

Sheet 商品マスタ
A1: 商品名 | B1: 商品番号 | C1: 税抜単価
A2: シクラメン8号 -プレミアムレッド- | B2: S-01 | C2: 10000
A3: シクラメン8号 -ビクトリア- | B3: S-02 | C3: 10000
A4: シクラメン8号 -花色おまかせ- | B4: S-03 | C4: 9500
A5: シクラメン6号 -ハイブリッジレッド- | B5: S-04 | C5: 7000
A6: シクラメン6号 -フリル系ピンク- | B6: S-05 | C6: 7000
A7: シクラメン6号 -花色おまかせ- | B7: S-06 | C7: 6300
A8: シクラメン5号 -レッド- | B8: S-07 | C8: 5000
A9: シクラメン5号 -ハリオスラベンダー- | B9: S-08 | C9: 5000
A10: シクラメン5号 -フリル系ピンク- | B10: S-09 | C10: 5000
A11: シクラメン5号 -アイスプリンセス- | B11: S-10 | C11: 5000
A12: シクラメン5号 -花色おまかせ- | B12: S-11 | C12: 4300
